BEGIN:VCALENDAR
VERSION:2.0
PRODID:-//ERIBIA - Équipe de recherche interdisciplinaire sur la Grande-Bretagne, l&#039;Irlande et l&#039;Amérique du Nord - ECPv6.15.18//NONSGML v1.0//EN
CALSCALE:GREGORIAN
METHOD:PUBLISH
X-ORIGINAL-URL:https://eribia.unicaen.fr
X-WR-CALDESC:Évènements pour ERIBIA - Équipe de recherche interdisciplinaire sur la Grande-Bretagne, l&#039;Irlande et l&#039;Amérique du Nord
REFRESH-INTERVAL;VALUE=DURATION:PT1H
X-Robots-Tag:noindex
X-PUBLISHED-TTL:PT1H
BEGIN:VTIMEZONE
TZID:Europe/Paris
BEGIN:DAYLIGHT
TZOFFSETFROM:+0100
TZOFFSETTO:+0200
TZNAME:CEST
DTSTART:20220327T010000
END:DAYLIGHT
BEGIN:STANDARD
TZOFFSETFROM:+0200
TZOFFSETTO:+0100
TZNAME:CET
DTSTART:20221030T010000
END:STANDARD
BEGIN:DAYLIGHT
TZOFFSETFROM:+0100
TZOFFSETTO:+0200
TZNAME:CEST
DTSTART:20230326T010000
END:DAYLIGHT
BEGIN:STANDARD
TZOFFSETFROM:+0200
TZOFFSETTO:+0100
TZNAME:CET
DTSTART:20231029T010000
END:STANDARD
BEGIN:DAYLIGHT
TZOFFSETFROM:+0100
TZOFFSETTO:+0200
TZNAME:CEST
DTSTART:20240331T010000
END:DAYLIGHT
BEGIN:STANDARD
TZOFFSETFROM:+0200
TZOFFSETTO:+0100
TZNAME:CET
DTSTART:20241027T010000
END:STANDARD
END:VTIMEZONE
BEGIN:VEVENT
DTSTART;TZID=Europe/Paris:20231207T150000
DTEND;TZID=Europe/Paris:20231207T170000
DTSTAMP:20260424T160820
CREATED:20230904T143526Z
LAST-MODIFIED:20231204T093342Z
UID:47909-1701961200-1701968400@eribia.unicaen.fr
SUMMARY:"Réinventer la souveraineté à l'Ouest : les nations indiennes déportées dans la construction des grandes Plaines"
DESCRIPTION:Intervenant: Augustin Habran (Université d’Orléans) \n\n\n\nModératrice: Linda Garbaye (Université Caen Normandie) \n\n\n\nVoir l’affiche du séminaire
URL:https://eribia.unicaen.fr/evenement/reinventer-la-souverainete-a-louest-les-nations-indiennes-deportees-dans-la-construction-des-grandes-plaines-2/
LOCATION:Caen · Campus 1 · Maison des langues et de l’international (MLI) · Salle Li-160\, Carré international - Maison des langues et de l'international\, Caen\, 14000\, France
CATEGORIES:Séminaire
ATTACH;FMTTYPE=image/png:https://eribia.unicaen.fr/wp-content/uploads/sites/12/2023/11/Souverainete_a_lOuest.png
END:VEVENT
END:VCALENDAR