BEGIN:VCALENDAR
VERSION:2.0
PRODID:-//ERIBIA - Équipe de recherche interdisciplinaire sur la Grande-Bretagne, l&#039;Irlande et l&#039;Amérique du Nord - ECPv6.15.18//NONSGML v1.0//EN
CALSCALE:GREGORIAN
METHOD:PUBLISH
X-WR-CALNAME:ERIBIA - Équipe de recherche interdisciplinaire sur la Grande-Bretagne, l&#039;Irlande et l&#039;Amérique du Nord
X-ORIGINAL-URL:https://eribia.unicaen.fr
X-WR-CALDESC:Évènements pour ERIBIA - Équipe de recherche interdisciplinaire sur la Grande-Bretagne, l&#039;Irlande et l&#039;Amérique du Nord
REFRESH-INTERVAL;VALUE=DURATION:PT1H
X-Robots-Tag:noindex
X-PUBLISHED-TTL:PT1H
BEGIN:VTIMEZONE
TZID:Europe/Paris
BEGIN:DAYLIGHT
TZOFFSETFROM:+0100
TZOFFSETTO:+0200
TZNAME:CEST
DTSTART:20220327T010000
END:DAYLIGHT
BEGIN:STANDARD
TZOFFSETFROM:+0200
TZOFFSETTO:+0100
TZNAME:CET
DTSTART:20221030T010000
END:STANDARD
BEGIN:DAYLIGHT
TZOFFSETFROM:+0100
TZOFFSETTO:+0200
TZNAME:CEST
DTSTART:20230326T010000
END:DAYLIGHT
BEGIN:STANDARD
TZOFFSETFROM:+0200
TZOFFSETTO:+0100
TZNAME:CET
DTSTART:20231029T010000
END:STANDARD
BEGIN:DAYLIGHT
TZOFFSETFROM:+0100
TZOFFSETTO:+0200
TZNAME:CEST
DTSTART:20240331T010000
END:DAYLIGHT
BEGIN:STANDARD
TZOFFSETFROM:+0200
TZOFFSETTO:+0100
TZNAME:CET
DTSTART:20241027T010000
END:STANDARD
END:VTIMEZONE
BEGIN:VEVENT
DTSTART;TZID=Europe/Paris:20231214T140000
DTEND;TZID=Europe/Paris:20231214T163000
DTSTAMP:20260423T082630
CREATED:20231204T101659Z
LAST-MODIFIED:20231204T101815Z
UID:48149-1702562400-1702571400@eribia.unicaen.fr
SUMMARY:Falstaff\, opéra féministe?
DESCRIPTION:Mickael Popelard (Pr. de littérature anglaise\, ERIBIA\, université de Caen): « Le personnage de Falstaff de Shakespeare à Verdi ».Maud Pouradier (Maître de Conférences en Philosophie de l’art\, Identité et Subjectivité\, auteur de Parler en Chantant\, université de Caen): « Falstaff : enfin la victoire des femmes à l’opéra ?» \n\n\n\nVoir l’affiche de la manifestation \n\n\n\nVoir aussi « ERIBIA Hors les murs »
URL:https://eribia.unicaen.fr/evenement/falstaff-opera-feministe/
LOCATION:Caen · Théâtre de Caen\, Théâtre de Caen\, 135 Boulevard Maréchal Leclerc\, Caen\, 14000\, France
CATEGORIES:Conférence
ATTACH;FMTTYPE=image/png:https://eribia.unicaen.fr/wp-content/uploads/sites/12/2023/12/Opera_feministe_Image.png
END:VEVENT
BEGIN:VEVENT
DTSTART;TZID=Europe/Paris:20231214T150000
DTEND;TZID=Europe/Paris:20231214T170000
DTSTAMP:20260423T082630
CREATED:20230904T142057Z
LAST-MODIFIED:20231204T093632Z
UID:47904-1702566000-1702573200@eribia.unicaen.fr
SUMMARY:"Le colonialisme de peuplement et les silences de l'histoire coloniale américaine"
DESCRIPTION:Intervenante: Agnès Delahaye (Université Louis Lumière – Lyon 2). \n\n\n\nModératrice: Linda Garbaye (Université Caen Normandie) \n\n\n\nVoir l’affiche du séminaire
URL:https://eribia.unicaen.fr/evenement/reinventer-la-souverainete-a-louest-les-nations-indiennes-deportees-dans-la-construction-des-grandes-plaines/
LOCATION:Caen · Campus 1 · Maison de la recherche en sciences humaines (MRSH) · Salle SH-028\, Campus 1\, Maison de la recherche en sciences humaines (MRSH)\, 1 Esplanade de la Paix\, Caen\, 14000\, France
CATEGORIES:Séminaire
ATTACH;FMTTYPE=image/png:https://eribia.unicaen.fr/wp-content/uploads/sites/12/2023/11/Colonialisme_americain.png
END:VEVENT
END:VCALENDAR