BEGIN:VCALENDAR
VERSION:2.0
PRODID:-//ERIBIA - Équipe de recherche interdisciplinaire sur la Grande-Bretagne, l&#039;Irlande et l&#039;Amérique du Nord - ECPv6.15.18//NONSGML v1.0//EN
CALSCALE:GREGORIAN
METHOD:PUBLISH
X-WR-CALNAME:ERIBIA - Équipe de recherche interdisciplinaire sur la Grande-Bretagne, l&#039;Irlande et l&#039;Amérique du Nord
X-ORIGINAL-URL:https://eribia.unicaen.fr
X-WR-CALDESC:Évènements pour ERIBIA - Équipe de recherche interdisciplinaire sur la Grande-Bretagne, l&#039;Irlande et l&#039;Amérique du Nord
REFRESH-INTERVAL;VALUE=DURATION:PT1H
X-Robots-Tag:noindex
X-PUBLISHED-TTL:PT1H
BEGIN:VTIMEZONE
TZID:Europe/Paris
BEGIN:DAYLIGHT
TZOFFSETFROM:+0100
TZOFFSETTO:+0200
TZNAME:CEST
DTSTART:20220327T010000
END:DAYLIGHT
BEGIN:STANDARD
TZOFFSETFROM:+0200
TZOFFSETTO:+0100
TZNAME:CET
DTSTART:20221030T010000
END:STANDARD
BEGIN:DAYLIGHT
TZOFFSETFROM:+0100
TZOFFSETTO:+0200
TZNAME:CEST
DTSTART:20230326T010000
END:DAYLIGHT
BEGIN:STANDARD
TZOFFSETFROM:+0200
TZOFFSETTO:+0100
TZNAME:CET
DTSTART:20231029T010000
END:STANDARD
BEGIN:DAYLIGHT
TZOFFSETFROM:+0100
TZOFFSETTO:+0200
TZNAME:CEST
DTSTART:20240331T010000
END:DAYLIGHT
BEGIN:STANDARD
TZOFFSETFROM:+0200
TZOFFSETTO:+0100
TZNAME:CET
DTSTART:20241027T010000
END:STANDARD
BEGIN:DAYLIGHT
TZOFFSETFROM:+0100
TZOFFSETTO:+0200
TZNAME:CEST
DTSTART:20250330T010000
END:DAYLIGHT
BEGIN:STANDARD
TZOFFSETFROM:+0200
TZOFFSETTO:+0100
TZNAME:CET
DTSTART:20251026T010000
END:STANDARD
END:VTIMEZONE
BEGIN:VEVENT
DTSTART;TZID=Europe/Paris:20231221T080000
DTEND;TZID=Europe/Paris:20240311T170000
DTSTAMP:20260422T161840
CREATED:20231221T200902Z
LAST-MODIFIED:20250602T080948Z
UID:48191-1703145600-1710176400@eribia.unicaen.fr
SUMMARY:La Gestion de manifestations et de projets culturels : fêtes\, foires\, festins et festivals - Congrès ANLEA/AILEA
DESCRIPTION:C’est à Caen\, la ville d’accueil du plus grand Carnaval étudiant en Europe\, que se tiendra le prochain Congrès de l’ANLEA / de l’AILEA sur le thème de la gestion de manifestations et de projets culturels. L’événementiel\, qu’il soit lié à la communication\, au tourisme\, à la médiation culturelle\, à la gestion financière dans un environnement économique en mutation constante\, ou encore à la programmation d’événements\, constitue un objet de recherche particulièrement stimulant pour les études en LanguesÉtrangères Appliquées\, car il articule très concrètement les préoccupations linguistiques et socio-culturelles en LEA et les aspects plus professionnalisants de la filière LEA que véhiculent notamment les matières d’application (droit\, économie\, gestion\, etc.).Les célébrations carnavalesques qui animent chaque année la ville de Caen ou de Granville ne sont que des exemples locaux de festivités de rue qui présupposent une organisation d’envergure et une adaptation incessante aux nouvelles contraintes\, économiques\, logistiques et environnementales notamment. Comme toute fête\, ces manifestations culturelles sont avant tout des initiatives visant à promouvoir des moments de joie et de partage : le premier Carnaval étudiant caennais qui eut lieu en 1894 portait d’ailleurs le nom de « cavalcade de bienfaisance ». Contribuant à créer du lien social\, les fêtes et festivités sont aussi traditionnellement des formes d’action politique et subversive qui servent de vitrine aux revendications en tous genres. Les fêtes\, foires\, festins et festivals dont il sera question dans le programme de recherche du Congrès 2024 de l’ANLEA / de l’AILEA font partie intégrante des industries du spectacle\, du divertissement\, des arts vivants et de la bienfaisance\, industries qui présentent un intérêt croissant pour la filière LEA tant en termes d’enseignement que de recherche. Si celle-ci repose traditionnellement sur des liens extrêmement forts avec le secteur du tourisme et avec les politiques publiques territoriales car ils reflètent les spécificités et les échanges entre les cultures\, aujourd’hui\, elle explore aussi de nouvelles voies : tourisme culturel diversifié\, intersectionnelet multi-activités\, événementiel culturel et sportif\, gestion de projets liés aux festivals\, aux musées et à tout domaine de l’amusement et du plaisir.Eu égard à l’intérêt croissant pour la culture et à l’engouement pour l’événementiel en France et dans le monde\, nous vous proposons cette année d’explorer cette problématique en étudiant des sujets liés à l’industrie du plaisir\, aux festivités\, manifestations et projets culturels. Les sujets abordés peuvent notamment porter sur l’un des axes suivants : \n\n\n\n \n\n\n\n\nHistoire des festivals dans les cultures européennes et mondiales ;\n\n\n\nArts de la rue et manifestations publiques ;\n\n\n\nCulture des festivals (musique\, cinéma\, art\, œno-gastronomique) ;\n\n\n\nÉconomie du plaisir et de l’amusement ;\n\n\n\nÉconomies alternatives ;\n\n\n\nFestivals verts et écologiques ;\n\n\n\nÉconomie culturelle sociale et solidaire ;\n\n\n\nÉvolution des pratiques culturelles et artistiques amateurs ;\n\n\n\nL’événementiel queer et féministe et approches intersectionnelles ;\n\n\n\nFestivals axés sur le bien-être et le développement personnel ;\n\n\n\nLes outils de gestion des festivals ;\n\n\n\nLe marketing innovant des projets culturels ;\n\n\n\nArticulation entre le secteur culturel et les stages LEA ;\n\n\n\nLangages et modes d’expression des festivités\n\n\n\n\nLes propositions de communication devront être envoyées à lve.congres.ANLEA.Caen24@unicaen.fr avant le 11 mars 2024. \n\n\n\nValeria ALLAIRE\, Université de Caen NormandieVanessa BOULLET\, Université de LorraineDima EL HUSSEINI\, Université Française d’ÉgypteAnnette LENSING\, Université de Caen NormandieMarcin STAWIARSKI\, Université de Caen NormandieAmy WELLS\, Université de Caen Normandie \n\n\n\nTélécharger l’appel à communications en version pdf
URL:https://eribia.unicaen.fr/evenement/la-gestion-de-manifestations-et-de-projets-culturels-fetes-foires-festins-et-festivals-congres-anlea-ailea/
CATEGORIES:Congrès - Colloque
END:VEVENT
BEGIN:VEVENT
DTSTART;TZID=Europe/Paris:20240118T150000
DTEND;TZID=Europe/Paris:20240118T170000
DTSTAMP:20260422T161840
CREATED:20230916T095854Z
LAST-MODIFIED:20231222T133005Z
UID:47962-1705590000-1705597200@eribia.unicaen.fr
SUMMARY:"Toxic Friendship and The Snobs of England: Thackeray\, the Periodical Press\, and Social Critique."
DESCRIPTION:Speaker: Camille Stallings (St Hilda’s College\, University of Oxford) \n\n\n\n‘Toxic Friendship and ‘The Snobs of England’: Thackeray\, the Periodical Press\, and Social Critique’. \n\n\n\nChair: Françoise Baillet (Université Caen Normandie) \n\n\n\n \n\n\n\nThis seminar is part of the « Roving Victorians » series held by the SFEVE (Société Française des Études Victoriennes et Edouardiennes) and will be accessible online here. \n\n\n\nTo download the event poster
URL:https://eribia.unicaen.fr/evenement/seminaire-des-enseignants-chercheurs-2/
LOCATION:Caen · Campus 1 · Maison des langues et de l’international (MLI) · Salle Li-160\, Carré international - Maison des langues et de l'international\, Caen\, 14000\, France
CATEGORIES:Séminaire
ATTACH;FMTTYPE=image/png:https://eribia.unicaen.fr/wp-content/uploads/sites/12/2023/09/Seminaire_ERIBIA_18janvier24.png
END:VEVENT
BEGIN:VEVENT
DTSTART;TZID=Europe/Paris:20240125T090000
DTEND;TZID=Europe/Paris:20240125T170000
DTSTAMP:20260422T161841
CREATED:20230904T143930Z
LAST-MODIFIED:20240119T191752Z
UID:47911-1706173200-1706202000@eribia.unicaen.fr
SUMMARY:Journée Jeunes Chercheuses\, Jeunes Chercheurs.
DESCRIPTION:10h-12h: Présentation du doctorat et de l’équipe de recherche ERIBIADirection : Françoise BAILLET et Christophe GILLISSEN \n\n\n\nPrésentation de l’équipe. Préparation d’une thèse de doctorat au sein de l’ERIBIA. Insertion professionnelle après une thèse de doctorat \n\n\n\n \n\n\n\n14h-16h30: Table-ronde: « La thèse et l’après-thèse : parcours et expériences des doctorants et des jeunes chercheurs ».  \n\n\n\nAvec la participation de: Julie BEQ (doctorante\, université de Caen Normandie)\, Marion BOURDEAU (jeune chercheuse\, université Jean Moulin – Lyon 3)\, Eva GALLOT (doctorante\, université de Caen Normandie)\, Tiffany CHOYER (doctorante\, université de Caen Normandie)\, Sarah LEVY-VALENSI (doctorante\, université de Caen Normandie)\, Marine OLLIVARY (doctorante\, université de Caen Normandie)\, Louise MESMOUDI (doctorante\, université de Caen Normandie)\, Audrey ROBITAILLIÉ (jeune chercheuse\, Institut Catholique de Toulouse)\, Kimberley VANDERSTRAETEN (doctorante\, université de Caen Normandie) \n\n\n\n \n\n\n\nVoir l’affiche de cet événement
URL:https://eribia.unicaen.fr/evenement/journee-jeunes-chercheuses-jeunes-chercheurs/
LOCATION:Caen · Campus 1 · Maison de la recherche en sciences humaines (MRSH) · Salles SH027-028\, Campus 1\, Maison de la recherche en sciences humaines (MRSH)\, 1 Esplanade de la Paix\, Caen\, 14000\, France
CATEGORIES:Journée d'étude
ATTACH;FMTTYPE=image/png:https://eribia.unicaen.fr/wp-content/uploads/sites/12/2023/11/Journee_Jeunes_Chercheuses_et_Chercheurs.png
END:VEVENT
END:VCALENDAR