BEGIN:VCALENDAR
VERSION:2.0
PRODID:-//ERIBIA - Équipe de recherche interdisciplinaire sur la Grande-Bretagne, l&#039;Irlande et l&#039;Amérique du Nord - ECPv6.15.18//NONSGML v1.0//EN
CALSCALE:GREGORIAN
METHOD:PUBLISH
X-WR-CALNAME:ERIBIA - Équipe de recherche interdisciplinaire sur la Grande-Bretagne, l&#039;Irlande et l&#039;Amérique du Nord
X-ORIGINAL-URL:https://eribia.unicaen.fr
X-WR-CALDESC:Évènements pour ERIBIA - Équipe de recherche interdisciplinaire sur la Grande-Bretagne, l&#039;Irlande et l&#039;Amérique du Nord
REFRESH-INTERVAL;VALUE=DURATION:PT1H
X-Robots-Tag:noindex
X-PUBLISHED-TTL:PT1H
BEGIN:VTIMEZONE
TZID:Europe/Paris
BEGIN:DAYLIGHT
TZOFFSETFROM:+0100
TZOFFSETTO:+0200
TZNAME:CEST
DTSTART:20240331T010000
END:DAYLIGHT
BEGIN:STANDARD
TZOFFSETFROM:+0200
TZOFFSETTO:+0100
TZNAME:CET
DTSTART:20241027T010000
END:STANDARD
BEGIN:DAYLIGHT
TZOFFSETFROM:+0100
TZOFFSETTO:+0200
TZNAME:CEST
DTSTART:20250330T010000
END:DAYLIGHT
BEGIN:STANDARD
TZOFFSETFROM:+0200
TZOFFSETTO:+0100
TZNAME:CET
DTSTART:20251026T010000
END:STANDARD
BEGIN:DAYLIGHT
TZOFFSETFROM:+0100
TZOFFSETTO:+0200
TZNAME:CEST
DTSTART:20260329T010000
END:DAYLIGHT
BEGIN:STANDARD
TZOFFSETFROM:+0200
TZOFFSETTO:+0100
TZNAME:CET
DTSTART:20261025T010000
END:STANDARD
END:VTIMEZONE
BEGIN:VEVENT
DTSTART;TZID=Europe/Paris:20250604T090000
DTEND;TZID=Europe/Paris:20250604T170000
DTSTAMP:20260425T163537
CREATED:20250505T080644Z
LAST-MODIFIED:20250505T080646Z
UID:48998-1749027600-1749056400@eribia.unicaen.fr
SUMMARY:Écrire contre. Une polysémie féconde dans la création littéraire et artistique de l’Antiquité à nos jours
DESCRIPTION:Pour télécharger l’affiche de cette manifestation
URL:https://eribia.unicaen.fr/evenement/ecrire-contre-une-polysemie-feconde-dans-la-creation-litteraire-et-artistique-de-lantiquite-a-nos-jours/
LOCATION:Caen · Campus 1 · Maison de la recherche en sciences humaines (MRSH) · Salle des Actes\, Campus 1\, Maison de la recherche en sciences humaines (MRSH)\, 1 Esplanade de la Paix\, Caen\, 14000\, France
ATTACH;FMTTYPE=image/png:https://eribia.unicaen.fr/wp-content/uploads/sites/12/2025/05/JE_Ecrire-contre_Caen.png
END:VEVENT
END:VCALENDAR